BEGIN:VCALENDAR
VERSION:2.0
PRODID:-//Good Grief! - ECPv6.15.20//NONSGML v1.0//EN
CALSCALE:GREGORIAN
METHOD:PUBLISH
X-ORIGINAL-URL:https://goodgriefhealing.ca
X-WR-CALDESC:Events for Good Grief!
REFRESH-INTERVAL;VALUE=DURATION:PT1H
X-Robots-Tag:noindex
X-PUBLISHED-TTL:PT1H
BEGIN:VTIMEZONE
TZID:America/Toronto
BEGIN:DAYLIGHT
TZOFFSETFROM:-0500
TZOFFSETTO:-0400
TZNAME:EDT
DTSTART:20250309T070000
END:DAYLIGHT
BEGIN:STANDARD
TZOFFSETFROM:-0400
TZOFFSETTO:-0500
TZNAME:EST
DTSTART:20251102T060000
END:STANDARD
BEGIN:DAYLIGHT
TZOFFSETFROM:-0500
TZOFFSETTO:-0400
TZNAME:EDT
DTSTART:20260308T070000
END:DAYLIGHT
BEGIN:STANDARD
TZOFFSETFROM:-0400
TZOFFSETTO:-0500
TZNAME:EST
DTSTART:20261101T060000
END:STANDARD
BEGIN:DAYLIGHT
TZOFFSETFROM:-0500
TZOFFSETTO:-0400
TZNAME:EDT
DTSTART:20270314T070000
END:DAYLIGHT
BEGIN:STANDARD
TZOFFSETFROM:-0400
TZOFFSETTO:-0500
TZNAME:EST
DTSTART:20271107T060000
END:STANDARD
END:VTIMEZONE
BEGIN:VEVENT
DTSTART;TZID=America/Toronto:20260325T193000
DTEND;TZID=America/Toronto:20260325T203000
DTSTAMP:20260422T090147
CREATED:20260305T010031Z
LAST-MODIFIED:20260305T162121Z
UID:7319-1774467000-1774470600@goodgriefhealing.ca
SUMMARY:Grief book review and discussion
DESCRIPTION:When someone we love dies\, we realize for the first time how many books there are on grief. Which one is right for you?\nThis is the first in a series of grief book reviews. In this session\, you will have an opportunity to:\n\nHEAR about the book Bearing the Unbearable by Joanne Cacciatore\, PhD\nDISCUSS the book and find out if it’s right for you\nCONNECT with other grievers\n\nWednesday\, March 25\, 2026 \n7:30pm – 8:30pm \nvia Zoom \nPlease note: \n\nThis group is for adults who have experienced a significant death loss.\nThis is an interactive session and participants are asked to have their camera on (with reasonable exceptions of course).\n\n\n\n\n\nRegister \n___________________________________________________________ \nThis program is brought to you by Good Grief! Bereavement Healing Services\, a registered charity. \n\n\n_____________________________________________________________________________ \n\n\n\n\nMeet the Facilitators\n\n\n\n\nEileen Jadd\, MA\, RSW\, has been working for community service organizations in Toronto\, both professionally and as a volunteer for over 30 years. Having obtained her certificate in Bereavement Education from the University of Toronto Social Work Continuing Education Department\, Eileen began her role as a group facilitator and Bereavement Educator and has been focusing her skills in assisting the underserved grief-stricken population of the GTA. \nJustine Silver\, BSc\, was thrown into the world of grieving after the unexpected passing of her husband several years ago. With the support of family\, friends\, professional and group counselling\, Justine was able to access tools and techniques to help her move forward. She combines these skills\, her Grief Care Professional certificate and professional experience to help others navigate through loss\, creating a welcoming group experience. Justine is passionate about group support as a tool for healing. \nMargarita Miniovich\, MSW\, RSW\, Certified Grief Educator\, has worked in the field of mental health for over 30 years including grief\, loss and bereavement\, as well as anxiety\, depression\, anger\, substance use\, and self-harm. In her practice\, she uses an array of psychotherapeutic modalities such as Internal Family Systems (IFS)\, psychodynamic and mindfulness-based\, as well as drawing on Somatic approaches and Havening Technique®\, which is a gentle trauma reprocessing technique.
URL:https://goodgriefhealing.ca/event/grief-book-review-and-discussion/
ATTACH;FMTTYPE=image/png:https://goodgriefhealing.ca/wp-content/uploads/2026/03/Book-Review-Promo-with-Margarita-March-25-2026_EB-version-no-reg-link.png
END:VEVENT
END:VCALENDAR