BEGIN:VCALENDAR
VERSION:2.0
PRODID:-//Good Grief! - ECPv6.15.20//NONSGML v1.0//EN
CALSCALE:GREGORIAN
METHOD:PUBLISH
X-WR-CALNAME:Good Grief!
X-ORIGINAL-URL:https://goodgriefhealing.ca
X-WR-CALDESC:Events for Good Grief!
REFRESH-INTERVAL;VALUE=DURATION:PT1H
X-Robots-Tag:noindex
X-PUBLISHED-TTL:PT1H
BEGIN:VTIMEZONE
TZID:America/Toronto
BEGIN:DAYLIGHT
TZOFFSETFROM:-0500
TZOFFSETTO:-0400
TZNAME:EDT
DTSTART:20240310T070000
END:DAYLIGHT
BEGIN:STANDARD
TZOFFSETFROM:-0400
TZOFFSETTO:-0500
TZNAME:EST
DTSTART:20241103T060000
END:STANDARD
BEGIN:DAYLIGHT
TZOFFSETFROM:-0500
TZOFFSETTO:-0400
TZNAME:EDT
DTSTART:20250309T070000
END:DAYLIGHT
BEGIN:STANDARD
TZOFFSETFROM:-0400
TZOFFSETTO:-0500
TZNAME:EST
DTSTART:20251102T060000
END:STANDARD
BEGIN:DAYLIGHT
TZOFFSETFROM:-0500
TZOFFSETTO:-0400
TZNAME:EDT
DTSTART:20260308T070000
END:DAYLIGHT
BEGIN:STANDARD
TZOFFSETFROM:-0400
TZOFFSETTO:-0500
TZNAME:EST
DTSTART:20261101T060000
END:STANDARD
END:VTIMEZONE
BEGIN:VEVENT
DTSTART;TZID=America/Toronto:20250930T190000
DTEND;TZID=America/Toronto:20251104T203000
DTSTAMP:20260424T154629
CREATED:20250829T134653Z
LAST-MODIFIED:20250829T134653Z
UID:7252-1759258800-1762288200@goodgriefhealing.ca
SUMMARY:You're Not Alone: Six-Week Grief Support Group (Fall 2025)
DESCRIPTION:Losing a loved one is painful and you are not alone.\nAs part of this virtual group\, you will have an opportunity to:\n\nSHARE your grief story in a supportive environment\nDISCUSS emotional\, physical and social aspects of life after loss\nLEARN new coping strategies \nSix consecutive Tuesdays \nSept 30 – Nov 4\, 2025 \n7:00pm – 8:30pm \nvia Zoom \nPlease note: \n\nThis group is only available to Ontario residents.\nThis is a closed group and participants are expected to attend all sessions (with reasonable exceptions of course).\nUpon receiving your registration\, you will have a phone call or zoom with one of the facilitators to confirm your registration.\nIt is a core value of Good Grief! Bereavement Healing Services that grief support be accessible and cost not be a barrier. Limited bursaries are available. Call 647 691 5009 to inquire.\n\n____________________________________________________________________________ \nThis program is brought to you by Good Grief! Bereavement Healing Services\, a registered charity. \n\n\n\n\n\n\n\n\n\n\n\n\n\nRegister \n\n\n\nMeet the Facilitators\n\n\n\n\nEileen Jadd\, MA\, RSW\, has been working for community service organizations in Toronto\, both professionally and as a volunteer for over 30 years. Having obtained her certificate in Bereavement Education from the University of Toronto Social Work Continuing Education Department\, Eileen began her role as a group facilitator and Bereavement Educator and has been focusing her skills in assisting the underserved grief-stricken population of the GTA. \nJustine Silver\, BSc\, CMP\, was thrown into the world of grieving after the unexpected passing of her husband several years ago. With the support of family\, friends\, professional and group counselling\, Justine was able to access tools and techniques to help her move forward. She combines these skills\, her Grief Care Professional certificate and professional experience to help others navigate through loss\, creating a welcoming group experience. Justine is passionate about group support as a tool for healing.
URL:https://goodgriefhealing.ca/event/youre-not-alone-six-week-grief-support-group-fall-2025/
ATTACH;FMTTYPE=image/png:https://goodgriefhealing.ca/wp-content/uploads/2025/08/Fall-2025-Youre-Not-Alone-Flyer.png
END:VEVENT
BEGIN:VEVENT
DTSTART;TZID=America/Toronto:20251001T103000
DTEND;TZID=America/Toronto:20251105T123000
DTSTAMP:20260424T154629
CREATED:20250829T140105Z
LAST-MODIFIED:20250829T140105Z
UID:7258-1759314600-1762345800@goodgriefhealing.ca
SUMMARY:You're Not Alone: Six-Week Seniors Grief Support Group (Fall 2025)
DESCRIPTION:Losing a loved one is painful and you are not alone.\nAs part of this in-person group exclusively for seniors\, you will have an opportunity to: \n\nSHARE your grief story in a supportive environment\nDISCUSS emotional\, physical and social aspects of life after loss\nLEARN new coping strategies \nSix consecutive Wednesdays \nOct 1\, 2025 – Nov 5\, 2025 \n10:30am – 12:30pm including a light lunch \nLocation: Bloor Gladstone Library – 1101 Bloor Street West ∙ Toronto\, ON \nPlease note: \n\nThis group is only available to Ontario residents.\nThis is a closed group and participants are expected to attend all sessions (with reasonable exceptions of course).\nUpon receiving your registration\, you will have a phone call or zoom with one of the facilitators to confirm your registration.\n\nRegister \n____________________________________________________________________________ \nThis program is funded by Sienna for Seniors Foundation and brought to you by Good Grief! Bereavement Healing Services\, a registered charity. \n_____________________________________________________________________________ \nMeet the Facilitators\nEileen Jadd\, MA\, RSW\, has been working for community service organizations in Toronto\, both professionally and as a volunteer for over 30 years. Having obtained her certificate in Bereavement Education from the University of Toronto Social Work Continuing Education Department\, Eileen began her role as a group facilitator and Bereavement Educator and has been focusing her skills in assisting the underserved grief-stricken population of the GTA. \nJustine Silver\, BSc\, was thrown into the world of grieving after the unexpected passing of her husband several years ago. With the support of family\, friends\, professional and group counselling\, Justine was able to access tools and techniques to help her move forward. She combines these skills\, her Grief Care Professional certificate and professional experience to help others navigate through loss\, creating a welcoming group experience. Justine is passionate about group support as a tool for healing.
URL:https://goodgriefhealing.ca/event/youre-not-alone-six-week-seniors-grief-support-group-fall-2025/
ATTACH;FMTTYPE=image/png:https://goodgriefhealing.ca/wp-content/uploads/2025/08/Sienna-Seniors-Youre-Not-Alone-Fall-2025.png
END:VEVENT
END:VCALENDAR